BEGIN:VCALENDAR
VERSION:2.0
PRODID:-//wp-events-plugin.com//7.2.3.1//EN
BEGIN:VEVENT
UID:110@pesu.org
DTSTART;TZID=Europe/Helsinki:20260617T180000
DTEND;TZID=Europe/Helsinki:20260617T193000
DTSTAMP:20260112T133036Z
URL:https://pesu.org/wp/events/avoimet-ovet-pesutuvalla-2026-01-14-2026-01
 -21-2026-01-28-2026-02-04-2026-02-11-2026-02-18-2026-02-25-2026-03-04-2026
 -03-11-2026-03-18-2026-03-25-2026-04-01-2026-04-08-2026-04-15-2026-04-10-2
 026-06-17/
SUMMARY:Avoimet ovet PESUtuvalla
DESCRIPTION:Tervetuloa PESUtuvalle!\nTule tutustumaan toimintaamme\, ostoks
 ille tai ihan vain jutustelemaan mukavia.\n\n\nMistä meidät löytää:\n
 \nLiikehuoneisto talon päädyssä\n
LOCATION:PESUtupa\, Teiskontie 12\, Tampere\, Pirkanmaa\, 33540\, Suomi
X-APPLE-STRUCTURED-LOCATION;VALUE=URI;X-ADDRESS=Teiskontie 12\, Tampere\, P
 irkanmaa\, 33540\, Suomi;X-APPLE-RADIUS=100;X-TITLE=PESUtupa:geo:0,0
END:VEVENT
BEGIN:VTIMEZONE
TZID:Europe/Helsinki
X-LIC-LOCATION:Europe/Helsinki
BEGIN:DAYLIGHT
DTSTART:20260329T040000
TZOFFSETFROM:+0200
TZOFFSETTO:+0300
TZNAME:EEST
END:DAYLIGHT
END:VTIMEZONE
END:VCALENDAR